BEGIN:VCALENDAR
VERSION:2.0
PRODID:-//trina brunk, Singer/songwriter - ECPv6.15.20//NONSGML v1.0//EN
CALSCALE:GREGORIAN
METHOD:PUBLISH
X-WR-CALNAME:trina brunk, Singer/songwriter
X-ORIGINAL-URL:https://soultending.studio
X-WR-CALDESC:Events for trina brunk, Singer/songwriter
REFRESH-INTERVAL;VALUE=DURATION:PT1H
X-Robots-Tag:noindex
X-PUBLISHED-TTL:PT1H
BEGIN:VTIMEZONE
TZID:America/Chicago
BEGIN:DAYLIGHT
TZOFFSETFROM:-0600
TZOFFSETTO:-0500
TZNAME:CDT
DTSTART:20250309T080000
END:DAYLIGHT
BEGIN:STANDARD
TZOFFSETFROM:-0500
TZOFFSETTO:-0600
TZNAME:CST
DTSTART:20251102T070000
END:STANDARD
BEGIN:DAYLIGHT
TZOFFSETFROM:-0600
TZOFFSETTO:-0500
TZNAME:CDT
DTSTART:20260308T080000
END:DAYLIGHT
BEGIN:STANDARD
TZOFFSETFROM:-0500
TZOFFSETTO:-0600
TZNAME:CST
DTSTART:20261101T070000
END:STANDARD
BEGIN:DAYLIGHT
TZOFFSETFROM:-0600
TZOFFSETTO:-0500
TZNAME:CDT
DTSTART:20270314T080000
END:DAYLIGHT
BEGIN:STANDARD
TZOFFSETFROM:-0500
TZOFFSETTO:-0600
TZNAME:CST
DTSTART:20271107T070000
END:STANDARD
END:VTIMEZONE
BEGIN:VEVENT
DTSTART;TZID=America/Chicago:20260616T140000
DTEND;TZID=America/Chicago:20260616T160000
DTSTAMP:20260423T111645
CREATED:20260421T023610Z
LAST-MODIFIED:20260421T023610Z
UID:1789-1781618400-1781625600@soultending.studio
SUMMARY:Make a Tiny Basket With Natural Foraged Materials
DESCRIPTION:June 16\, 23 and 30\, 2026 \nDiscover the art of tiny basket making using natural\, foraged materials and an ancient twining technique. \nIn this hands-on\, nature-connected class\, participants will learn how to create a small basket\nusing soft plant materials found right in our everyday surroundings. Along the way\, you’ll explore: \n\nWhere to find basketry materials\,\nHow foraging can deepen your connection to nature\,\nAnd how to prepare a few commonly available natural fibers for weaving.\n\nThis three-session class includes:\nSession 1 –The basics: learn an ancient twining technique innovated by indigenous folks in cultures all\naround the world.\nSession 2 & 3–Basket making meetups for skill building and troubleshooting.\nNo prior basketry experience is needed. Come ready to explore\, learn\, and create with materials\ngathered from nature.\nSupplies needed-please bring to class: Big darning needle\, small scissors\, a cloth you don’t mind\ngetting dirty. I will have extras you can borrow if needed.
URL:https://soultending.studio/event/make-a-tiny-basket-with-natural-foraged-materials-2/
CATEGORIES:Baskets,Northfield
ATTACH;FMTTYPE=image/jpeg:https://soultending.studio/wp-content/uploads/2025/12/IMG_7368-rotated.jpeg
END:VEVENT
END:VCALENDAR