BEGIN:VCALENDAR
VERSION:2.0
PRODID:-//trina brunk, Singer/songwriter - ECPv6.15.20//NONSGML v1.0//EN
CALSCALE:GREGORIAN
METHOD:PUBLISH
X-WR-CALNAME:trina brunk, Singer/songwriter
X-ORIGINAL-URL:https://soultending.studio
X-WR-CALDESC:Events for trina brunk, Singer/songwriter
REFRESH-INTERVAL;VALUE=DURATION:PT1H
X-Robots-Tag:noindex
X-PUBLISHED-TTL:PT1H
BEGIN:VTIMEZONE
TZID:America/Chicago
BEGIN:DAYLIGHT
TZOFFSETFROM:-0600
TZOFFSETTO:-0500
TZNAME:CDT
DTSTART:20250309T080000
END:DAYLIGHT
BEGIN:STANDARD
TZOFFSETFROM:-0500
TZOFFSETTO:-0600
TZNAME:CST
DTSTART:20251102T070000
END:STANDARD
BEGIN:DAYLIGHT
TZOFFSETFROM:-0600
TZOFFSETTO:-0500
TZNAME:CDT
DTSTART:20260308T080000
END:DAYLIGHT
BEGIN:STANDARD
TZOFFSETFROM:-0500
TZOFFSETTO:-0600
TZNAME:CST
DTSTART:20261101T070000
END:STANDARD
BEGIN:DAYLIGHT
TZOFFSETFROM:-0600
TZOFFSETTO:-0500
TZNAME:CDT
DTSTART:20270314T080000
END:DAYLIGHT
BEGIN:STANDARD
TZOFFSETFROM:-0500
TZOFFSETTO:-0600
TZNAME:CST
DTSTART:20271107T070000
END:STANDARD
END:VTIMEZONE
BEGIN:VEVENT
DTSTART;TZID=America/Chicago:20260429T173000
DTEND;TZID=America/Chicago:20260429T183000
DTSTAMP:20260423T093318
CREATED:20260421T021225Z
LAST-MODIFIED:20260421T021406Z
UID:1777-1777483800-1777487400@soultending.studio
SUMMARY:Medicine Music Practice Live Stream
DESCRIPTION:Come as you are\, let’s settle in and go deep with a meditative exploratory music journey of the soul. You’ll be invited to be part of cultivating a sacred space by sharing your intentions\, desires\, blessings and prayers\, and we’ll sing into that space for ourselves\, each other and all beings. \n*About Insight Timer \nMy free live stream events are on Insight Timer\, which is a free\, award-winning meditation app and web portal offering a vast library of guided meditations\, music tracks\, and talks\, designed to help users reduce stress\, improve sleep\, and promote overall well-being.  \nYou can also find many of my music and meditation offerings\, as well as a two of my audio courses for coming home to your own heart at ​Insighttimer.com/trinabrunk​.
URL:https://soultending.studio/event/medicine-music-practice-live-stream/
CATEGORIES:Insight Timer Live Stream
END:VEVENT
END:VCALENDAR